BEGIN:VCALENDAR
VERSION:2.0
PRODID:-//Saint John Preparatory School - ECPv6.15.20//NONSGML v1.0//EN
CALSCALE:GREGORIAN
METHOD:PUBLISH
X-WR-CALNAME:Saint John Preparatory School
X-ORIGINAL-URL:https://saintjohnprek.org
X-WR-CALDESC:Events for Saint John Preparatory School
REFRESH-INTERVAL;VALUE=DURATION:PT1H
X-Robots-Tag:noindex
X-PUBLISHED-TTL:PT1H
BEGIN:VTIMEZONE
TZID:UTC
BEGIN:STANDARD
TZOFFSETFROM:+0000
TZOFFSETTO:+0000
TZNAME:UTC
DTSTART:20250101T000000
END:STANDARD
END:VTIMEZONE
BEGIN:VEVENT
DTSTART;VALUE=DATE:20260601
DTEND;VALUE=DATE:20260602
DTSTAMP:20260423T211023
CREATED:20260401T213704Z
LAST-MODIFIED:20260401T213704Z
UID:3350-1780272000-1780358399@saintjohnprek.org
SUMMARY:Summer Program Begins
DESCRIPTION:
URL:https://saintjohnprek.org/event/summer-program-begins/
END:VEVENT
BEGIN:VEVENT
DTSTART;VALUE=DATE:20260603
DTEND;VALUE=DATE:20260604
DTSTAMP:20260423T211023
CREATED:20260401T214728Z
LAST-MODIFIED:20260401T214728Z
UID:3352-1780444800-1780531199@saintjohnprek.org
SUMMARY:Juneteenth (School Closed)
DESCRIPTION:
URL:https://saintjohnprek.org/event/juneteenth-school-closed/
END:VEVENT
END:VCALENDAR