BEGIN:VCALENDAR
VERSION:2.0
PRODID:-//Saint John Preparatory School - ECPv6.15.20//NONSGML v1.0//EN
CALSCALE:GREGORIAN
METHOD:PUBLISH
X-WR-CALNAME:Saint John Preparatory School
X-ORIGINAL-URL:https://saintjohnprek.org
X-WR-CALDESC:Events for Saint John Preparatory School
REFRESH-INTERVAL;VALUE=DURATION:PT1H
X-Robots-Tag:noindex
X-PUBLISHED-TTL:PT1H
BEGIN:VTIMEZONE
TZID:UTC
BEGIN:STANDARD
TZOFFSETFROM:+0000
TZOFFSETTO:+0000
TZNAME:UTC
DTSTART:20220101T000000
END:STANDARD
END:VTIMEZONE
BEGIN:VTIMEZONE
TZID:America/New_York
BEGIN:DAYLIGHT
TZOFFSETFROM:-0500
TZOFFSETTO:-0400
TZNAME:EDT
DTSTART:20220313T070000
END:DAYLIGHT
BEGIN:STANDARD
TZOFFSETFROM:-0400
TZOFFSETTO:-0500
TZNAME:EST
DTSTART:20221106T060000
END:STANDARD
BEGIN:DAYLIGHT
TZOFFSETFROM:-0500
TZOFFSETTO:-0400
TZNAME:EDT
DTSTART:20230312T070000
END:DAYLIGHT
BEGIN:STANDARD
TZOFFSETFROM:-0400
TZOFFSETTO:-0500
TZNAME:EST
DTSTART:20231105T060000
END:STANDARD
BEGIN:DAYLIGHT
TZOFFSETFROM:-0500
TZOFFSETTO:-0400
TZNAME:EDT
DTSTART:20240310T070000
END:DAYLIGHT
BEGIN:STANDARD
TZOFFSETFROM:-0400
TZOFFSETTO:-0500
TZNAME:EST
DTSTART:20241103T060000
END:STANDARD
END:VTIMEZONE
BEGIN:VEVENT
DTSTART;VALUE=DATE:20260403
DTEND;VALUE=DATE:20260408
DTSTAMP:20260423T200011
CREATED:20260401T212538Z
LAST-MODIFIED:20260401T212538Z
UID:3328-1775174400-1775606399@saintjohnprek.org
SUMMARY:Spring Break (School Closed)
DESCRIPTION:
URL:https://saintjohnprek.org/event/spring-break-school-closed-2/
END:VEVENT
BEGIN:VEVENT
DTSTART;VALUE=DATE:20250729
DTEND;VALUE=DATE:20250730
DTSTAMP:20260423T200011
CREATED:20250618T235850Z
LAST-MODIFIED:20250618T235850Z
UID:3078-1753747200-1753833599@saintjohnprek.org
SUMMARY:School Closed Half Day - Close at Noon - July 29\, 2025 - Last Day of Camp/Cookout
DESCRIPTION:
URL:https://saintjohnprek.org/event/school-closed-half-day-close-at-noon-july-29-2025-last-day-of-camp-cookout/
END:VEVENT
BEGIN:VEVENT
DTSTART;VALUE=DATE:20250704
DTEND;VALUE=DATE:20250705
DTSTAMP:20260423T200011
CREATED:20250618T235655Z
LAST-MODIFIED:20250618T235703Z
UID:3075-1751587200-1751673599@saintjohnprek.org
SUMMARY:School Closed Full Day - July 4\, 2025 - Independence Day
DESCRIPTION:
URL:https://saintjohnprek.org/event/school-closed-full-day-july-4-2025-independence-day/
END:VEVENT
BEGIN:VEVENT
DTSTART;VALUE=DATE:20250620
DTEND;VALUE=DATE:20250621
DTSTAMP:20260423T200011
CREATED:20250618T235405Z
LAST-MODIFIED:20250618T235405Z
UID:3073-1750377600-1750463999@saintjohnprek.org
SUMMARY:School Closed Full Day - June 20\, 2025
DESCRIPTION:
URL:https://saintjohnprek.org/event/school-closed-full-day-june-20-2025/
END:VEVENT
BEGIN:VEVENT
DTSTART;VALUE=DATE:20250602
DTEND;VALUE=DATE:20250603
DTSTAMP:20260423T200011
CREATED:20241118T213123Z
LAST-MODIFIED:20241118T213123Z
UID:2817-1748822400-1748908799@saintjohnprek.org
SUMMARY:Summer Program Start Date
DESCRIPTION:
URL:https://saintjohnprek.org/event/summer-program-start-date/
END:VEVENT
BEGIN:VEVENT
DTSTART;VALUE=DATE:20250523
DTEND;VALUE=DATE:20250524
DTSTAMP:20260423T200011
CREATED:20241118T213009Z
LAST-MODIFIED:20241118T213040Z
UID:2814-1747958400-1748044799@saintjohnprek.org
SUMMARY:Last Day of School 2024-25 Academic Year - Half Day - End of Year Cookout
DESCRIPTION:
URL:https://saintjohnprek.org/event/last-day-of-school-2024-25-academic-year-half-day/
END:VEVENT
BEGIN:VEVENT
DTSTART;VALUE=DATE:20250516
DTEND;VALUE=DATE:20250517
DTSTAMP:20260423T200011
CREATED:20241118T212915Z
LAST-MODIFIED:20250403T140830Z
UID:2812-1747353600-1747439999@saintjohnprek.org
SUMMARY:Kindergarten Graduation
DESCRIPTION:
URL:https://saintjohnprek.org/event/kindergarten-graduation/
END:VEVENT
BEGIN:VEVENT
DTSTART;VALUE=DATE:20250509
DTEND;VALUE=DATE:20250510
DTSTAMP:20260423T200011
CREATED:20241118T212831Z
LAST-MODIFIED:20250310T234621Z
UID:2810-1746748800-1746835199@saintjohnprek.org
SUMMARY:Promotion Ceremony (2's - 4's)
DESCRIPTION:
URL:https://saintjohnprek.org/event/promotion-ceremony-2s-4s/
END:VEVENT
BEGIN:VEVENT
DTSTART;VALUE=DATE:20250423
DTEND;VALUE=DATE:20250425
DTSTAMP:20260423T200011
CREATED:20241118T212738Z
LAST-MODIFIED:20250310T234513Z
UID:2808-1745366400-1745539199@saintjohnprek.org
SUMMARY:Kindergarten Spring Assessment
DESCRIPTION:
URL:https://saintjohnprek.org/event/kindergarten-spring-assessment/
END:VEVENT
BEGIN:VEVENT
DTSTART;VALUE=DATE:20250418
DTEND;VALUE=DATE:20250423
DTSTAMP:20260423T200011
CREATED:20241118T212650Z
LAST-MODIFIED:20241118T212650Z
UID:2805-1744934400-1745366399@saintjohnprek.org
SUMMARY:Spring Break (School Closed)
DESCRIPTION:
URL:https://saintjohnprek.org/event/spring-break-school-closed/
END:VEVENT
BEGIN:VEVENT
DTSTART;VALUE=DATE:20250227
DTEND;VALUE=DATE:20250228
DTSTAMP:20260423T200011
CREATED:20241118T212551Z
LAST-MODIFIED:20241118T212551Z
UID:2803-1740614400-1740700799@saintjohnprek.org
SUMMARY:Parent Teacher Conference (Half Day)
DESCRIPTION:
URL:https://saintjohnprek.org/event/parent-teacher-conference-half-day/
END:VEVENT
BEGIN:VEVENT
DTSTART;VALUE=DATE:20250220
DTEND;VALUE=DATE:20250221
DTSTAMP:20260423T200011
CREATED:20241118T184046Z
LAST-MODIFIED:20241118T184046Z
UID:2794-1740009600-1740095999@saintjohnprek.org
SUMMARY:Black History Program (Half Day)
DESCRIPTION:
URL:https://saintjohnprek.org/event/black-history-program-half-day/
END:VEVENT
BEGIN:VEVENT
DTSTART;VALUE=DATE:20250217
DTEND;VALUE=DATE:20250218
DTSTAMP:20260423T200011
CREATED:20241118T182719Z
LAST-MODIFIED:20241118T182724Z
UID:2792-1739750400-1739836799@saintjohnprek.org
SUMMARY:President's Day (School Closed)
DESCRIPTION:
URL:https://saintjohnprek.org/event/presidents-day-school-closed/
END:VEVENT
BEGIN:VEVENT
DTSTART;VALUE=DATE:20250120
DTEND;VALUE=DATE:20250121
DTSTAMP:20260423T200011
CREATED:20241118T182335Z
LAST-MODIFIED:20241118T182335Z
UID:2781-1737331200-1737417599@saintjohnprek.org
SUMMARY:Martin Luther King Day (School Closed)
DESCRIPTION:
URL:https://saintjohnprek.org/event/martin-luther-king-day-school-closed/
END:VEVENT
BEGIN:VEVENT
DTSTART;VALUE=DATE:20241219
DTEND;VALUE=DATE:20241220
DTSTAMP:20260423T200011
CREATED:20241118T175953Z
LAST-MODIFIED:20241118T182431Z
UID:2777-1734566400-1734652799@saintjohnprek.org
SUMMARY:Christmas Program (half day)
DESCRIPTION:
URL:https://saintjohnprek.org/event/christmas-program-half-day-2/
END:VEVENT
BEGIN:VEVENT
DTSTART;VALUE=DATE:20241128
DTEND;VALUE=DATE:20241130
DTSTAMP:20260423T200011
CREATED:20241118T175836Z
LAST-MODIFIED:20241118T175836Z
UID:2773-1732752000-1732924799@saintjohnprek.org
SUMMARY:Thanksgiving Break (School Closed)
DESCRIPTION:
URL:https://saintjohnprek.org/event/thanksgiving-break-school-closed/
END:VEVENT
BEGIN:VEVENT
DTSTART;VALUE=DATE:20241127
DTEND;VALUE=DATE:20241128
DTSTAMP:20260423T200011
CREATED:20241118T175049Z
LAST-MODIFIED:20241118T175049Z
UID:2767-1732665600-1732751999@saintjohnprek.org
SUMMARY:Half Day (Teacher Work)
DESCRIPTION:
URL:https://saintjohnprek.org/event/half-day-teacher-work/
END:VEVENT
BEGIN:VEVENT
DTSTART;VALUE=DATE:20241122
DTEND;VALUE=DATE:20241123
DTSTAMP:20260423T200011
CREATED:20241118T175013Z
LAST-MODIFIED:20241118T175151Z
UID:2765-1732233600-1732319999@saintjohnprek.org
SUMMARY:Half Day (Teacher Work)
DESCRIPTION:
URL:https://saintjohnprek.org/event/half-day-teacher-workday/
END:VEVENT
BEGIN:VEVENT
DTSTART;TZID=UTC:20241118T073000
DTEND;TZID=UTC:20241122T180000
DTSTAMP:20260423T200011
CREATED:20241118T175332Z
LAST-MODIFIED:20241118T175340Z
UID:2770-1731915000-1732298400@saintjohnprek.org
SUMMARY:American Education Week
DESCRIPTION:https://saintjohnprek.org/wp-content/uploads/2024/11/American-Education-Week-November-18-22-2024-Slideshow.mp4
URL:https://saintjohnprek.org/event/american-education-week/
END:VEVENT
BEGIN:VEVENT
DTSTART;VALUE=DATE:20240223
DTEND;VALUE=DATE:20240224
DTSTAMP:20260423T200011
CREATED:20231003T031610Z
LAST-MODIFIED:20231003T031613Z
UID:2455-1708646400-1708732799@saintjohnprek.org
SUMMARY:Black History Program
DESCRIPTION:
URL:https://saintjohnprek.org/event/black-history-program/
ATTACH;FMTTYPE=image/gif:https://saintjohnprek.org/wp-content/uploads/2023/10/Celebrating-Black-History.gif
END:VEVENT
BEGIN:VEVENT
DTSTART;VALUE=DATE:20240219
DTEND;VALUE=DATE:20240220
DTSTAMP:20260423T200011
CREATED:20231003T031438Z
LAST-MODIFIED:20231003T031443Z
UID:2450-1708300800-1708387199@saintjohnprek.org
SUMMARY:School Closed
DESCRIPTION:In observance of President’s Day school will be closed.
URL:https://saintjohnprek.org/event/school-closed-3/
ATTACH;FMTTYPE=image/jpeg:https://saintjohnprek.org/wp-content/uploads/2023/10/President-Day.jpg
END:VEVENT
BEGIN:VEVENT
DTSTART;VALUE=DATE:20240115
DTEND;VALUE=DATE:20240116
DTSTAMP:20260423T200011
CREATED:20231003T025908Z
LAST-MODIFIED:20231003T025956Z
UID:2443-1705276800-1705363199@saintjohnprek.org
SUMMARY:School Closed
DESCRIPTION:In observance of Martin Luther King Jr. Day school is closed today.
URL:https://saintjohnprek.org/event/school-closed-2/
ATTACH;FMTTYPE=image/jpeg:https://saintjohnprek.org/wp-content/uploads/2023/10/mlkday.jpg
END:VEVENT
BEGIN:VEVENT
DTSTART;VALUE=DATE:20231222
DTEND;VALUE=DATE:20240103
DTSTAMP:20260423T200011
CREATED:20231003T024554Z
LAST-MODIFIED:20241118T182621Z
UID:2435-1703203200-1704239999@saintjohnprek.org
SUMMARY:Winter Break (School Closed)
DESCRIPTION:
URL:https://saintjohnprek.org/event/winter-break/
END:VEVENT
BEGIN:VEVENT
DTSTART;VALUE=DATE:20231221
DTEND;VALUE=DATE:20231222
DTSTAMP:20260423T200011
CREATED:20180712T041015Z
LAST-MODIFIED:20231003T030242Z
UID:254-1703116800-1703203199@saintjohnprek.org
SUMMARY:Christmas Program (Half Day)
DESCRIPTION:Half Day for Students \n 
URL:https://saintjohnprek.org/event/christmas-program-half-day/
LOCATION:Saint John Preparatory School\, 3404 West Beltline Boulevard\, Columbia\, SC\, 29203\, United States
ATTACH;FMTTYPE=image/jpeg:https://saintjohnprek.org/wp-content/uploads/2018/07/childprc.jpg
ORGANIZER;CN="Saint John Preparatory School":MAILTO:info@saintjohnprek.org
END:VEVENT
BEGIN:VEVENT
DTSTART;TZID=UTC:20231009T071500
DTEND;TZID=UTC:20231009T174500
DTSTAMP:20260423T200011
CREATED:20180726T032247Z
LAST-MODIFIED:20231003T030558Z
UID:1417-1696835700-1696873500@saintjohnprek.org
SUMMARY:Kindergarten Fall Assessment
DESCRIPTION:
URL:https://saintjohnprek.org/event/kindergarten-fall-assessment/
LOCATION:Saint John Preparatory School\, 3404 West Beltline Boulevard\, Columbia\, SC\, 29203\, United States
ATTACH;FMTTYPE=image/jpeg:https://saintjohnprek.org/wp-content/uploads/2018/07/assessment.jpg
ORGANIZER;CN="Saint John Preparatory School":MAILTO:info@saintjohnprek.org
END:VEVENT
BEGIN:VEVENT
DTSTART;VALUE=DATE:20231122
DTEND;VALUE=DATE:20231125
DTSTAMP:20260423T200011
CREATED:20180726T022331Z
LAST-MODIFIED:20231003T023757Z
UID:1411-1700611200-1700870399@saintjohnprek.org
SUMMARY:School Closed
DESCRIPTION:School will be closed in observance of Thanksgiving.
URL:https://saintjohnprek.org/event/school-closed/
LOCATION:Saint John Preparatory School\, 3404 West Beltline Boulevard\, Columbia\, SC\, 29203\, United States
ATTACH;FMTTYPE=image/jpeg:https://saintjohnprek.org/wp-content/uploads/2018/07/School-Closed.jpg
ORGANIZER;CN="Saint John Preparatory School":MAILTO:info@saintjohnprek.org
END:VEVENT
END:VCALENDAR